BEGIN:VCALENDAR
VERSION:2.0
PRODID:-//Veteran Car Team Bozen Oldtimer Südtirol Auto d´epca Alto Adige - ECPv6.15.20//NONSGML v1.0//EN
CALSCALE:GREGORIAN
METHOD:PUBLISH
X-WR-CALNAME:Veteran Car Team Bozen Oldtimer Südtirol Auto d´epca Alto Adige
X-ORIGINAL-URL:https://veteran.it
X-WR-CALDESC:Eventi per Veteran Car Team Bozen Oldtimer Südtirol Auto d´epca Alto Adige
REFRESH-INTERVAL;VALUE=DURATION:PT1H
X-Robots-Tag:noindex
X-PUBLISHED-TTL:PT1H
BEGIN:VTIMEZONE
TZID:Europe/Rome
BEGIN:DAYLIGHT
TZOFFSETFROM:+0100
TZOFFSETTO:+0200
TZNAME:CEST
DTSTART:20230326T010000
END:DAYLIGHT
BEGIN:STANDARD
TZOFFSETFROM:+0200
TZOFFSETTO:+0100
TZNAME:CET
DTSTART:20231029T010000
END:STANDARD
BEGIN:DAYLIGHT
TZOFFSETFROM:+0100
TZOFFSETTO:+0200
TZNAME:CEST
DTSTART:20240331T010000
END:DAYLIGHT
BEGIN:STANDARD
TZOFFSETFROM:+0200
TZOFFSETTO:+0100
TZNAME:CET
DTSTART:20241027T010000
END:STANDARD
BEGIN:DAYLIGHT
TZOFFSETFROM:+0100
TZOFFSETTO:+0200
TZNAME:CEST
DTSTART:20250330T010000
END:DAYLIGHT
BEGIN:STANDARD
TZOFFSETFROM:+0200
TZOFFSETTO:+0100
TZNAME:CET
DTSTART:20251026T010000
END:STANDARD
BEGIN:DAYLIGHT
TZOFFSETFROM:+0100
TZOFFSETTO:+0200
TZNAME:CEST
DTSTART:20260329T010000
END:DAYLIGHT
BEGIN:STANDARD
TZOFFSETFROM:+0200
TZOFFSETTO:+0100
TZNAME:CET
DTSTART:20261025T010000
END:STANDARD
END:VTIMEZONE
BEGIN:VEVENT
DTSTART;TZID=Europe/Rome:20250323T090000
DTEND;TZID=Europe/Rome:20250323T170000
DTSTAMP:20260420T052453
CREATED:20250128T202130Z
LAST-MODIFIED:20250224T102912Z
UID:96218-1742720400-1742749200@veteran.it
SUMMARY:LAKE AND DRIVE
DESCRIPTION:
URL:https://veteran.it/event/lake-and-drive/
LOCATION:bardolino\, lungolago Bardolino\, bardolino\, 37011\, Italy
ORGANIZER;CN="Veteran Car Team":MAILTO:info@veteran.it
END:VEVENT
BEGIN:VEVENT
DTSTART;TZID=Europe/Rome:20250322T080000
DTEND;TZID=Europe/Rome:20250322T123000
DTSTAMP:20260420T052453
CREATED:20250122T110014Z
LAST-MODIFIED:20250219T201739Z
UID:96175-1742630400-1742646600@veteran.it
SUMMARY:VETERAN SAFETY DAY
DESCRIPTION:
URL:https://veteran.it/event/veteran-safety-day/
LOCATION:Safety Park\, Frizzi Au\, 3\, vadena\, bolzano\, 39051\, Italy
ORGANIZER;CN="Veteran Car Team":MAILTO:info@veteran.it
END:VEVENT
BEGIN:VEVENT
DTSTART;TZID=Europe/Rome:20241210T190000
DTEND;TZID=Europe/Rome:20241210T233000
DTSTAMP:20260420T052453
CREATED:20241107T172931Z
LAST-MODIFIED:20241112T174333Z
UID:95760-1733857200-1733873400@veteran.it
SUMMARY:CENA DI NATALE - WEIHNACHTSFEIER
DESCRIPTION:
URL:https://veteran.it/event/cena-di-natale/
LOCATION:Hotel Sheraton\, Via Bruno Buozzi\, 35\,\, Bolzano\, BZ\, 39100\, Italy
ATTACH;FMTTYPE=image/jpeg:https://veteran.it/wp-content/uploads/2024/11/dinner-1433494_1920.jpg
ORGANIZER;CN="Veteran Car Team":MAILTO:info@veteran.it
END:VEVENT
END:VCALENDAR